BEGIN:VCALENDAR
VERSION:2.0
PRODID:-//Hilaria Sultanat Wetzikon//Termine 2026//DE
CALSCALE:GREGORIAN
METHOD:PUBLISH
X-WR-CALNAME:Hilaria Sultanat Wetzikon
X-WR-TIMEZONE:Europe/Zurich

BEGIN:VTIMEZONE
TZID:Europe/Zurich
BEGIN:STANDARD
TZOFFSETFROM:+0200
TZOFFSETTO:+0100
TZNAME:CET
DTSTART:19701025T030000
END:STANDARD
BEGIN:DAYLIGHT
TZOFFSETFROM:+0100
TZOFFSETTO:+0200
TZNAME:CEST
DTSTART:19700329T020000
END:DAYLIGHT
END:VTIMEZONE

BEGIN:VEVENT
UID:20260624-fahnenweihe@hilaria-wetzikon.ch
DTSTAMP:20260302T120000Z
DTSTART;TZID=Europe/Zurich:20260624T190000
DTEND;TZID=Europe/Zurich:20260624T210000
SUMMARY;CHARSET=UTF-8:Fahnenweihe – Hilaria Sultanat Wetzikon
DESCRIPTION;CHARSET=UTF-8:Fahnenweihe & Austausch mit dem Kronrat Rüti sowie mit den Sultanaten Bäretswil, Bubikon und Dürnten
LOCATION;CHARSET=UTF-8:Oase Wetzikon, c/o Brasserie Keller, Bertschikerstrasse 2, 8620 Wetzikon
STATUS:CONFIRMED
END:VEVENT

END:VCALENDAR